BEGIN:VCALENDAR
VERSION:2.0
PRODID:-//ChamberMaster//Event Calendar 2.0//EN
METHOD:PUBLISH
X-PUBLISHED-TTL:P1H
REFRESH-INTERVAL:P1H
CALSCALE:GREGORIAN
BEGIN:VTIMEZONE
TZID:America/New_York
BEGIN:DAYLIGHT
RRULE:FREQ=YEARLY;BYMONTH=3;BYDAY=2SU
DTSTART:20070101T000000
TZOFFSETFROM:-0500
TZOFFSETTO:-0400
TZNAME:Eastern Daylight Time
END:DAYLIGHT
BEGIN:STANDARD
RRULE:FREQ=YEARLY;BYMONTH=11;BYDAY=1SU
DTSTART:20070101T000000
TZOFFSETFROM:-0400
TZOFFSETTO:-0500
TZNAME:Eastern Standard Time
END:STANDARD
END:VTIMEZONE
BEGIN:VEVENT
DTSTART;TZID=America/New_York:20260514T100000
DTEND;TZID=America/New_York:20260514T110000
X-MICROSOFT-CDO-ALLDAYEVENT:FALSE
SUMMARY:Sand Dollar Workshop
DESCRIPTION:Sand Dollar Workshop\nMay 14\, 2026 | 10:00- 11:00 a.m.\nThe Sand Dollar Awards Workshop delivers a behind-the-scenes look at crafting award-winning entries for CBIA's most prestigious recognition.Registration required.
X-ALT-DESC;FMTTYPE=text/html:<!DOCTYPE html><html><head><title></title></head><body aria-disabled="false"><p><span style="font-size: 18px\;"><strong fr-original-style="" style="font-weight: 700\;">Sand Dollar Workshop</strong></span><br>May 14\, 2026 | 10:00- 11:00 a.m.<br>The Sand Dollar Awards Workshop delivers a behind-the-scenes look at crafting award-winning entries for CBIA&rsquo\;s most prestigious recognition.</p><p>Registration required.&nbsp\;</p><p><br></p></body></html>
LOCATION:3200 Bailey Lane\, Suite 110 Naples FL 34105
UID:e.1785.1443295
SEQUENCE:3
DTSTAMP:20260420T115726Z
URL:https://members.cbia.net/cbia-calendar/Details/sand-dollar-workshop-1709505?sourceTypeId=Hub
END:VEVENT
END:VCALENDAR
